Package: MassSpecWavelet Version: 1.72.1 Command: /Library/Frameworks/R.framework/Resources/bin/R CMD INSTALL MassSpecWavelet StartedAt: 2025-03-31 15:03:45 -0400 (Mon, 31 Mar 2025) EndedAt: 2025-03-31 15:03:52 -0400 (Mon, 31 Mar 2025) EllapsedTime: 7.0 seconds RetCode: 0 Status: OK