Package: MassSpecWavelet Version: 1.72.1 Command: rm -rf MassSpecWavelet.buildbin-libdir && mkdir MassSpecWavelet.buildbin-libdir && /Users/biocbuild/BBS/utils/build-universal.sh MassSpecWavelet_1.72.1.tar.gz /Library/Frameworks/R.framework/Resources/bin/R MassSpecWavelet.buildbin-libdir StartedAt: 2025-01-28 13:35:44 -0500 (Tue, 28 Jan 2025) EndedAt: 2025-01-28 13:35:58 -0500 (Tue, 28 Jan 2025) EllapsedTime: 13.4 seconds RetCode: 0 Status: OK PackageFile: MassSpecWavelet_1.72.1.tgz PackageFileSize: 2.158 MiB