Package: MassArray Version: 1.58.0 Command: rm -rf MassArray.buildbin-libdir && mkdir MassArray.buildbin-libdir && F:\biocbuild\bbs-3.20-bioc\R\bin\R.exe CMD INSTALL --build --library=MassArray.buildbin-libdir MassArray_1.58.0.tar.gz StartedAt: 2025-04-01 08:32:17 -0400 (Tue, 01 Apr 2025) EndedAt: 2025-04-01 08:33:06 -0400 (Tue, 01 Apr 2025) EllapsedTime: 49.0 seconds RetCode: 0 Status: OK PackageFile: MassArray_1.58.0.zip PackageFileSize: 551.4 KiB