Package: MassArray Version: 1.58.0 Command: /home/biocbuild/bbs-3.20-bioc/R/bin/R CMD check --install=check:MassArray.install-out.txt --library=/home/biocbuild/bbs-3.20-bioc/R/site-library --timings MassArray_1.58.0.tar.gz StartedAt: 2025-01-28 00:31:20 -0500 (Tue, 28 Jan 2025) EndedAt: 2025-01-28 00:32:10 -0500 (Tue, 28 Jan 2025) EllapsedTime: 50.0 seconds RetCode: 0 Status: OK CheckDir: MassArray.Rcheck Warnings: 0