Package: MassArray Version: 1.58.0 Command: /Library/Frameworks/R.framework/Resources/bin/R CMD INSTALL MassArray StartedAt: 2025-01-27 15:09:06 -0500 (Mon, 27 Jan 2025) EndedAt: 2025-01-27 15:09:22 -0500 (Mon, 27 Jan 2025) EllapsedTime: 16.7 seconds RetCode: 0 Status: OK