Package: MassArray Version: 1.58.0 Command: /Library/Frameworks/R.framework/Resources/bin/R CMD build --keep-empty-dirs --no-resave-data MassArray StartedAt: 2024-11-08 17:57:15 -0500 (Fri, 08 Nov 2024) EndedAt: 2024-11-08 17:57:25 -0500 (Fri, 08 Nov 2024) EllapsedTime: 10.1 seconds RetCode: 0 Status: OK PackageFile: MassArray_1.58.0.tar.gz PackageFileSize: 375.1 KiB