Package: MassArray Version: 1.58.0 Command: /Library/Frameworks/R.framework/Resources/bin/R CMD check --install=check:MassArray.install-out.txt --library=/Library/Frameworks/R.framework/Resources/library --no-vignettes --timings MassArray_1.58.0.tar.gz StartedAt: 2025-02-05 00:38:26 -0500 (Wed, 05 Feb 2025) EndedAt: 2025-02-05 00:39:12 -0500 (Wed, 05 Feb 2025) EllapsedTime: 46.4 seconds RetCode: 0 Status: OK CheckDir: MassArray.Rcheck Warnings: 0