Package: MassArray Version: 1.58.0 Command: /Library/Frameworks/R.framework/Resources/bin/R CMD build --keep-empty-dirs --no-resave-data MassArray StartedAt: 2025-02-04 02:34:23 -0500 (Tue, 04 Feb 2025) EndedAt: 2025-02-04 02:34:57 -0500 (Tue, 04 Feb 2025) EllapsedTime: 34.3 seconds RetCode: 0 Status: OK PackageFile: MassArray_1.58.0.tar.gz PackageFileSize: 374.9 KiB