Package: Macarron Version: 1.10.0 Command: /home/biocbuild/R/R/bin/R CMD INSTALL Macarron StartedAt: 2025-03-31 20:59:00 -0000 (Mon, 31 Mar 2025) EndedAt: 2025-03-31 20:59:25 -0000 (Mon, 31 Mar 2025) EllapsedTime: 25.3 seconds RetCode: 0 Status: OK