Package: Macarron Version: 1.10.0 Command: F:\biocbuild\bbs-3.20-bioc\R\bin\R.exe CMD INSTALL Macarron StartedAt: 2025-02-03 17:01:57 -0500 (Mon, 03 Feb 2025) EndedAt: 2025-02-03 17:02:27 -0500 (Mon, 03 Feb 2025) EllapsedTime: 30.5 seconds RetCode: 0 Status: OK