Package: Macarron Version: 1.10.0 Command: chmod a+r Macarron -R && F:\biocbuild\bbs-3.20-bioc\R\bin\R.exe CMD build --keep-empty-dirs --no-resave-data Macarron StartedAt: 2025-02-03 20:05:17 -0500 (Mon, 03 Feb 2025) EndedAt: 2025-02-03 20:10:55 -0500 (Mon, 03 Feb 2025) EllapsedTime: 337.8 seconds RetCode: 0 Status: OK PackageFile: Macarron_1.10.0.tar.gz PackageFileSize: 591.4 KiB