Package: Macarron Version: 1.10.0 Command: /home/biocbuild/bbs-3.20-bioc/R/bin/R CMD check --install=check:Macarron.install-out.txt --library=/home/biocbuild/bbs-3.20-bioc/R/site-library --timings Macarron_1.10.0.tar.gz StartedAt: 2025-01-28 00:27:20 -0500 (Tue, 28 Jan 2025) EndedAt: 2025-01-28 00:45:06 -0500 (Tue, 28 Jan 2025) EllapsedTime: 1066.2 seconds RetCode: 1 Status: ERROR CheckDir: Macarron.Rcheck Warnings: NA