Package: Macarron Version: 1.10.0 Command: /Library/Frameworks/R.framework/Resources/bin/R CMD INSTALL Macarron StartedAt: 2025-03-31 16:19:34 -0400 (Mon, 31 Mar 2025) EndedAt: 2025-03-31 16:20:16 -0400 (Mon, 31 Mar 2025) EllapsedTime: 42.6 seconds RetCode: 0 Status: OK