Package: Maaslin2 Version: 1.20.0 Command: chmod a+r Maaslin2 -R && F:\biocbuild\bbs-3.20-bioc\R\bin\R.exe CMD build --keep-empty-dirs --no-resave-data Maaslin2 StartedAt: 2025-03-31 19:53:33 -0400 (Mon, 31 Mar 2025) EndedAt: 2025-03-31 19:55:50 -0400 (Mon, 31 Mar 2025) EllapsedTime: 137.0 seconds RetCode: 0 Status: OK PackageFile: Maaslin2_1.20.0.tar.gz PackageFileSize: 544.2 KiB