Package: Maaslin2 Version: 1.20.0 Command: /Library/Frameworks/R.framework/Resources/bin/R CMD build --keep-empty-dirs --no-resave-data Maaslin2 StartedAt: 2025-03-31 19:43:50 -0400 (Mon, 31 Mar 2025) EndedAt: 2025-03-31 19:47:47 -0400 (Mon, 31 Mar 2025) EllapsedTime: 236.7 seconds RetCode: 0 Status: OK PackageFile: Maaslin2_1.20.0.tar.gz PackageFileSize: 544.2 KiB