Package: MWASTools Version: 1.30.0 Command: /home/biocbuild/bbs-3.20-bioc/R/bin/R CMD build --keep-empty-dirs --no-resave-data --md5 MWASTools StartedAt: 2025-03-31 18:15:12 -0400 (Mon, 31 Mar 2025) EndedAt: 2025-03-31 18:16:19 -0400 (Mon, 31 Mar 2025) EllapsedTime: 66.1 seconds RetCode: 0 Status: OK PackageFile: MWASTools_1.30.0.tar.gz PackageFileSize: 2.654 MiB