Package: MWASTools Version: 1.30.0 Command: /Library/Frameworks/R.framework/Resources/bin/R CMD INSTALL MWASTools StartedAt: 2025-03-31 17:18:04 -0400 (Mon, 31 Mar 2025) EndedAt: 2025-03-31 17:18:40 -0400 (Mon, 31 Mar 2025) EllapsedTime: 36.0 seconds RetCode: 0 Status: OK