Package: MWASTools Version: 1.30.0 Command: /Library/Frameworks/R.framework/Resources/bin/R CMD build --keep-empty-dirs --no-resave-data MWASTools StartedAt: 2025-04-01 04:06:35 -0400 (Tue, 01 Apr 2025) EndedAt: 2025-04-01 04:07:55 -0400 (Tue, 01 Apr 2025) EllapsedTime: 80.6 seconds RetCode: 0 Status: OK PackageFile: MWASTools_1.30.0.tar.gz PackageFileSize: 2.106 MiB