Package: MVCClass Version: 1.80.0 Command: /home/biocbuild/R/R/bin/R CMD build --keep-empty-dirs --no-resave-data MVCClass StartedAt: 2025-01-28 01:53:27 -0000 (Tue, 28 Jan 2025) EndedAt: 2025-01-28 01:53:34 -0000 (Tue, 28 Jan 2025) EllapsedTime: 7.0 seconds RetCode: 0 Status: OK PackageFile: MVCClass_1.80.0.tar.gz PackageFileSize: 1.028 MiB