Package: MVCClass Version: 1.80.0 Command: /home/biocbuild/bbs-3.20-bioc/R/bin/R CMD check --install=check:MVCClass.install-out.txt --library=/home/biocbuild/bbs-3.20-bioc/R/site-library --timings MVCClass_1.80.0.tar.gz StartedAt: 2025-02-04 00:36:17 -0500 (Tue, 04 Feb 2025) EndedAt: 2025-02-04 00:36:36 -0500 (Tue, 04 Feb 2025) EllapsedTime: 19.0 seconds RetCode: 0 Status: OK CheckDir: MVCClass.Rcheck Warnings: 0