Package: MVCClass Version: 1.80.0 Command: /Library/Frameworks/R.framework/Resources/bin/R CMD INSTALL MVCClass StartedAt: 2025-01-27 15:09:01 -0500 (Mon, 27 Jan 2025) EndedAt: 2025-01-27 15:09:21 -0500 (Mon, 27 Jan 2025) EllapsedTime: 20.0 seconds RetCode: 0 Status: OK