Package: MVCClass Version: 1.80.0 Command: /Library/Frameworks/R.framework/Resources/bin/R CMD build --keep-empty-dirs --no-resave-data MVCClass StartedAt: 2025-01-27 21:01:02 -0500 (Mon, 27 Jan 2025) EndedAt: 2025-01-27 21:01:24 -0500 (Mon, 27 Jan 2025) EllapsedTime: 22.1 seconds RetCode: 0 Status: OK PackageFile: MVCClass_1.80.0.tar.gz PackageFileSize: 1.031 MiB