Package: MVCClass Version: 1.80.0 Command: rm -rf MVCClass.buildbin-libdir && mkdir MVCClass.buildbin-libdir && /Users/biocbuild/BBS/utils/build-universal.sh MVCClass_1.80.0.tar.gz /Library/Frameworks/R.framework/Resources/bin/R MVCClass.buildbin-libdir StartedAt: 2025-01-28 13:53:22 -0500 (Tue, 28 Jan 2025) EndedAt: 2025-01-28 13:53:46 -0500 (Tue, 28 Jan 2025) EllapsedTime: 23.9 seconds RetCode: 0 Status: OK PackageFile: MVCClass_1.80.0.tgz PackageFileSize: 1.232 MiB