Package: MVCClass Version: 1.80.0 Command: /Library/Frameworks/R.framework/Resources/bin/R CMD check --install=check:MVCClass.install-out.txt --library=/Library/Frameworks/R.framework/Resources/library --no-vignettes --timings MVCClass_1.80.0.tar.gz StartedAt: 2025-02-05 03:34:56 -0500 (Wed, 05 Feb 2025) EndedAt: 2025-02-05 03:35:23 -0500 (Wed, 05 Feb 2025) EllapsedTime: 26.7 seconds RetCode: 0 Status: OK CheckDir: MVCClass.Rcheck Warnings: 0