Package: MVCClass Version: 1.80.0 Command: /Library/Frameworks/R.framework/Resources/bin/R CMD build --keep-empty-dirs --no-resave-data MVCClass StartedAt: 2025-01-28 04:18:48 -0500 (Tue, 28 Jan 2025) EndedAt: 2025-01-28 04:18:59 -0500 (Tue, 28 Jan 2025) EllapsedTime: 11.4 seconds RetCode: 0 Status: OK PackageFile: MVCClass_1.80.0.tar.gz PackageFileSize: 1.031 MiB