Package: MSstatsShiny Version: 1.8.0 Command: /home/biocbuild/R/R/bin/R CMD INSTALL MSstatsShiny StartedAt: 2025-02-03 21:13:01 -0000 (Mon, 03 Feb 2025) EndedAt: 2025-02-03 21:13:34 -0000 (Mon, 03 Feb 2025) EllapsedTime: 33.6 seconds RetCode: 0 Status: OK