Package: MSstatsShiny Version: 1.8.0 Command: /home/biocbuild/R/R/bin/R CMD check --install=check:MSstatsShiny.install-out.txt --library=/home/biocbuild/R/R/site-library --no-vignettes --timings MSstatsShiny_1.8.0.tar.gz StartedAt: 2025-02-04 09:09:52 -0000 (Tue, 04 Feb 2025) EndedAt: 2025-02-04 09:14:08 -0000 (Tue, 04 Feb 2025) EllapsedTime: 256.4 seconds RetCode: 0 Status: WARNINGS CheckDir: MSstatsShiny.Rcheck Warnings: 1