Package: MSstatsShiny Version: 1.8.0 Command: chmod a+r MSstatsShiny -R && F:\biocbuild\bbs-3.20-bioc\R\bin\R.exe CMD build --keep-empty-dirs --no-resave-data MSstatsShiny StartedAt: 2025-02-10 20:34:10 -0500 (Mon, 10 Feb 2025) EndedAt: 2025-02-10 20:35:10 -0500 (Mon, 10 Feb 2025) EllapsedTime: 60.0 seconds RetCode: 0 Status: OK PackageFile: MSstatsShiny_1.8.0.tar.gz PackageFileSize: 2.16 MiB