Package: MSstatsQCgui Version: 1.26.0 Command: /home/biocbuild/R/R/bin/R CMD build --keep-empty-dirs --no-resave-data MSstatsQCgui StartedAt: 2025-02-04 01:16:22 -0000 (Tue, 04 Feb 2025) EndedAt: 2025-02-04 01:17:07 -0000 (Tue, 04 Feb 2025) EllapsedTime: 45.0 seconds RetCode: 0 Status: OK PackageFile: MSstatsQCgui_1.26.0.tar.gz PackageFileSize: 75.96 KiB