Package: MSstatsQCgui Version: 1.26.0 Command: /Library/Frameworks/R.framework/Resources/bin/R CMD build --keep-empty-dirs --no-resave-data MSstatsQCgui StartedAt: 2025-03-31 20:26:27 -0400 (Mon, 31 Mar 2025) EndedAt: 2025-03-31 20:27:51 -0400 (Mon, 31 Mar 2025) EllapsedTime: 84.2 seconds RetCode: 0 Status: OK PackageFile: MSstatsQCgui_1.26.0.tar.gz PackageFileSize: 75.36 KiB