Package: MSstatsQCgui Version: 1.26.0 Command: rm -rf MSstatsQCgui.buildbin-libdir && mkdir MSstatsQCgui.buildbin-libdir && /Users/biocbuild/BBS/utils/build-universal.sh MSstatsQCgui_1.26.0.tar.gz /Library/Frameworks/R.framework/Resources/bin/R MSstatsQCgui.buildbin-libdir StartedAt: 2025-04-01 12:19:23 -0400 (Tue, 01 Apr 2025) EndedAt: 2025-04-01 12:20:41 -0400 (Tue, 01 Apr 2025) EllapsedTime: 77.7 seconds RetCode: 0 Status: OK PackageFile: MSstatsQCgui_1.26.0.tgz PackageFileSize: 85.39 KiB