Package: MSstatsQC Version: 2.24.0 Command: /home/biocbuild/bbs-3.20-bioc/R/bin/R CMD build --keep-empty-dirs --no-resave-data --md5 MSstatsQC StartedAt: 2025-01-27 19:09:56 -0500 (Mon, 27 Jan 2025) EndedAt: 2025-01-27 19:11:09 -0500 (Mon, 27 Jan 2025) EllapsedTime: 73.1 seconds RetCode: 0 Status: OK PackageFile: MSstatsQC_2.24.0.tar.gz PackageFileSize: 2.19 MiB