Package: MSstatsPTM Version: 2.8.1 Command: /home/biocbuild/R/R/bin/R CMD build --keep-empty-dirs --no-resave-data MSstatsPTM StartedAt: 2025-02-04 01:16:08 -0000 (Tue, 04 Feb 2025) EndedAt: 2025-02-04 01:17:47 -0000 (Tue, 04 Feb 2025) EllapsedTime: 99.1 seconds RetCode: 0 Status: OK PackageFile: MSstatsPTM_2.8.1.tar.gz PackageFileSize: 1.769 MiB