Package: MSstatsPTM Version: 2.8.1 Command: rm -rf MSstatsPTM.buildbin-libdir && mkdir MSstatsPTM.buildbin-libdir && F:\biocbuild\bbs-3.20-bioc\R\bin\R.exe CMD INSTALL --build --library=MSstatsPTM.buildbin-libdir MSstatsPTM_2.8.1.tar.gz StartedAt: 2025-01-28 08:39:00 -0500 (Tue, 28 Jan 2025) EndedAt: 2025-01-28 08:40:01 -0500 (Tue, 28 Jan 2025) EllapsedTime: 60.8 seconds RetCode: 0 Status: OK PackageFile: MSstatsPTM_2.8.1.zip PackageFileSize: 2.256 MiB