Package: MSstatsPTM Version: 2.8.1 Command: /home/biocbuild/bbs-3.20-bioc/R/bin/R CMD INSTALL MSstatsPTM StartedAt: 2025-03-31 15:49:55 -0400 (Mon, 31 Mar 2025) EndedAt: 2025-03-31 15:50:22 -0400 (Mon, 31 Mar 2025) EllapsedTime: 26.8 seconds RetCode: 0 Status: OK