Package: MSstatsPTM Version: 2.8.1 Command: /Library/Frameworks/R.framework/Resources/bin/R CMD build --keep-empty-dirs --no-resave-data MSstatsPTM StartedAt: 2025-01-27 20:55:38 -0500 (Mon, 27 Jan 2025) EndedAt: 2025-01-27 20:59:10 -0500 (Mon, 27 Jan 2025) EllapsedTime: 212.2 seconds RetCode: 0 Status: OK PackageFile: MSstatsPTM_2.8.1.tar.gz PackageFileSize: 2.816 MiB