Package: MSstatsPTM Version: 2.8.1 Command: /Library/Frameworks/R.framework/Resources/bin/R CMD INSTALL MSstatsPTM StartedAt: 2025-01-27 17:40:22 -0500 (Mon, 27 Jan 2025) EndedAt: 2025-01-27 17:40:52 -0500 (Mon, 27 Jan 2025) EllapsedTime: 30.2 seconds RetCode: 0 Status: OK