Package: MSstatsPTM Version: 2.8.1 Command: /Library/Frameworks/R.framework/Resources/bin/R CMD build --keep-empty-dirs --no-resave-data MSstatsPTM StartedAt: 2025-01-28 04:07:25 -0500 (Tue, 28 Jan 2025) EndedAt: 2025-01-28 04:08:46 -0500 (Tue, 28 Jan 2025) EllapsedTime: 81.3 seconds RetCode: 0 Status: OK PackageFile: MSstatsPTM_2.8.1.tar.gz PackageFileSize: 2.817 MiB