Package: MSstatsPTM Version: 2.8.1 Command: rm -rf MSstatsPTM.buildbin-libdir && mkdir MSstatsPTM.buildbin-libdir && /Users/biocbuild/BBS/utils/build-universal.sh MSstatsPTM_2.8.1.tar.gz /Library/Frameworks/R.framework/Resources/bin/R MSstatsPTM.buildbin-libdir StartedAt: 2025-02-05 16:51:02 -0500 (Wed, 05 Feb 2025) EndedAt: 2025-02-05 16:51:38 -0500 (Wed, 05 Feb 2025) EllapsedTime: 35.3 seconds RetCode: 0 Status: OK PackageFile: MSstatsPTM_2.8.1.tgz PackageFileSize: 3.237 MiB