Package: MSstatsLiP Version: 1.12.0 Command: /home/biocbuild/bbs-3.20-bioc/R/bin/R CMD build --keep-empty-dirs --no-resave-data --md5 MSstatsLiP StartedAt: 2025-03-31 18:12:54 -0400 (Mon, 31 Mar 2025) EndedAt: 2025-03-31 18:13:44 -0400 (Mon, 31 Mar 2025) EllapsedTime: 50.1 seconds RetCode: 0 Status: OK PackageFile: MSstatsLiP_1.12.0.tar.gz PackageFileSize: 1.898 MiB