Package: MSstatsConvert Version: 1.16.1 Command: /home/biocbuild/R/R/bin/R CMD INSTALL MSstatsConvert StartedAt: 2025-02-10 20:13:16 -0000 (Mon, 10 Feb 2025) EndedAt: 2025-02-10 20:13:25 -0000 (Mon, 10 Feb 2025) EllapsedTime: 8.8 seconds RetCode: 0 Status: OK