Package: MSstatsConvert Version: 1.16.1 Command: chmod a+r MSstatsConvert -R && F:\biocbuild\bbs-3.20-bioc\R\bin\R.exe CMD build --keep-empty-dirs --no-resave-data MSstatsConvert StartedAt: 2025-02-10 20:32:19 -0500 (Mon, 10 Feb 2025) EndedAt: 2025-02-10 20:33:23 -0500 (Mon, 10 Feb 2025) EllapsedTime: 64.5 seconds RetCode: 0 Status: OK PackageFile: MSstatsConvert_1.16.1.tar.gz PackageFileSize: 1.802 MiB