Package: MSstatsConvert Version: 1.16.1 Command: rm -rf MSstatsConvert.buildbin-libdir && mkdir MSstatsConvert.buildbin-libdir && F:\biocbuild\bbs-3.20-bioc\R\bin\R.exe CMD INSTALL --build --library=MSstatsConvert.buildbin-libdir MSstatsConvert_1.16.1.tar.gz StartedAt: 2025-02-11 08:57:58 -0500 (Tue, 11 Feb 2025) EndedAt: 2025-02-11 08:59:35 -0500 (Tue, 11 Feb 2025) EllapsedTime: 97.3 seconds RetCode: 0 Status: OK PackageFile: MSstatsConvert_1.16.1.zip PackageFileSize: 2.112 MiB