Package: MSstatsConvert Version: 1.16.1 Command: /Library/Frameworks/R.framework/Resources/bin/R CMD INSTALL MSstatsConvert StartedAt: 2025-02-10 15:08:09 -0500 (Mon, 10 Feb 2025) EndedAt: 2025-02-10 15:08:24 -0500 (Mon, 10 Feb 2025) EllapsedTime: 14.2 seconds RetCode: 0 Status: OK