Package: MSstatsConvert Version: 1.16.1 Command: /Library/Frameworks/R.framework/Resources/bin/R CMD check --install=check:MSstatsConvert.install-out.txt --library=/Library/Frameworks/R.framework/Resources/library --no-vignettes --timings MSstatsConvert_1.16.1.tar.gz StartedAt: 2025-02-11 07:07:22 -0500 (Tue, 11 Feb 2025) EndedAt: 2025-02-11 07:09:03 -0500 (Tue, 11 Feb 2025) EllapsedTime: 101.1 seconds RetCode: 0 Status: WARNINGS CheckDir: MSstatsConvert.Rcheck Warnings: 3