Package: MSstatsConvert Version: 1.16.1 Command: rm -rf MSstatsConvert.buildbin-libdir && mkdir MSstatsConvert.buildbin-libdir && /Users/biocbuild/BBS/utils/build-universal.sh MSstatsConvert_1.16.1.tar.gz /Library/Frameworks/R.framework/Resources/bin/R MSstatsConvert.buildbin-libdir StartedAt: 2025-02-11 13:54:34 -0500 (Tue, 11 Feb 2025) EndedAt: 2025-02-11 13:54:54 -0500 (Tue, 11 Feb 2025) EllapsedTime: 20.1 seconds RetCode: 0 Status: OK PackageFile: MSstatsConvert_1.16.1.tgz PackageFileSize: 2.1 MiB