Package: MSstatsConvert Version: 1.16.1 Command: /Library/Frameworks/R.framework/Resources/bin/R CMD INSTALL MSstatsConvert StartedAt: 2025-01-30 15:14:42 -0500 (Thu, 30 Jan 2025) EndedAt: 2025-01-30 15:14:47 -0500 (Thu, 30 Jan 2025) EllapsedTime: 5.7 seconds RetCode: 0 Status: OK