Package: MSstatsConvert Version: 1.16.1 Command: /Library/Frameworks/R.framework/Resources/bin/R CMD check --install=check:MSstatsConvert.install-out.txt --library=/Library/Frameworks/R.framework/Resources/library --no-vignettes --timings MSstatsConvert_1.16.1.tar.gz StartedAt: 2025-02-01 02:31:20 -0500 (Sat, 01 Feb 2025) EndedAt: 2025-02-01 02:32:03 -0500 (Sat, 01 Feb 2025) EllapsedTime: 43.1 seconds RetCode: 0 Status: WARNINGS CheckDir: MSstatsConvert.Rcheck Warnings: 3