Package: MSstatsConvert Version: 1.16.1 Command: /Library/Frameworks/R.framework/Resources/bin/R CMD build --keep-empty-dirs --no-resave-data MSstatsConvert StartedAt: 2025-01-31 04:08:13 -0500 (Fri, 31 Jan 2025) EndedAt: 2025-01-31 04:08:25 -0500 (Fri, 31 Jan 2025) EllapsedTime: 11.2 seconds RetCode: 0 Status: OK PackageFile: MSstatsConvert_1.16.1.tar.gz PackageFileSize: 1.803 MiB