Package: MSstatsBig Version: 1.4.0 Command: /home/biocbuild/R/R/bin/R CMD INSTALL MSstatsBig StartedAt: 2025-02-10 20:53:14 -0000 (Mon, 10 Feb 2025) EndedAt: 2025-02-10 20:53:26 -0000 (Mon, 10 Feb 2025) EllapsedTime: 12.5 seconds RetCode: 0 Status: OK